BEGIN:VCALENDAR
VERSION:2.0
PRODID:-//www.culare.ch//NONSGML kigkonsult.se iCalcreator 2.16.12//
METHOD:PUBLISH
X-WR-CALNAME:Maimarkt Wil 
X-WR-CALDESC:<p><strong>Kilbi und Warenmarkt</strong></p>\n<p>Der Maimarkt 
 in Wil findet immer am ersten Dienstag im Mai statt.<br />Die Märkte fande
 n und finden hauptsächlich in der Wiler Altstadt und dort auf dem Hofplatz
 \, dem so genannten «Goldenen Boden»\, sowie in der Markt- und Kirchgasse 
 statt. <br />Die Arkaden entlang der Marktgasse sind ein typisches Zeichen
  für einen Marktort. <br />Arkaden- oder Laubenstädte sind oder waren Mark
 torte. <br />Die Arkaden entwickelten sich allmählich aus Marktständen\, i
 n denen die an Marktgassen wohnenden Bürgerinnen und Bürger ihre Verkaufss
 tände durch den Vorbau der oberen Stockwerke überdachten.</p>\n<p>Das Mark
 tgebiet des Wiler Maimarktes erstreckt sich jeweils von der Altstadt über 
 den Adlerplatz und die Grabenstrasse bis zum Viehmarktplatz. <br />Die Bud
 enstadt befindet sich auf dem Bleicheplatz\, wo bereits am Wochenende vor 
 dem eigentlichen Markttag Chilbibetrieb herrscht.</p>\n<p>Tausende von Mar
 ktbesuchenden aus Stadt und Region bevölkern am Maimarkt jeweils die Altst
 adt\, die obere und untere Vorstadt sowie die angrenzenden Zentrumsgebiete
  von Wil und sorgen für eine ganz besondere Stimmung.<br /> Auf dem Viehma
 rktplatz findet zudem immer noch der Rindermarkt statt und ergänzt wird de
 r Viehmarkt zudem mit verschiedenen landwirtschaftlichen Produkten.</p>\n<
 p>Der Maimarkt findet am Dienstag\, 5. Mai 2020\, statt. <br />Die Budenst
 adt und Chilbi auf dem Bleicheplatz ist bereits am Wochenende vom 2. und 3
 . Mai 2020 geöffnet.</p>\n<p> </p>\n<p><a title='Ihren Markt in Wil in den
  Veranstaltungskalender eintragen' href='https://www.culare.ch/de/register
 /' target='_self'>Hier Ihren Markt in Wil gratis in den Veranstaltungskale
 nder eintragen</a></p>
X-WR-TIMEZONE:Europe/Stockholm
BEGIN:VEVENT
UID:20260423T132434CEST-1216bHTUeR@www.culare.ch
DTSTAMP:20260423T112434Z
DESCRIPTION:Kilbi und Warenmarkt\nDer Maimarkt in Wil findet immer am erste
 n Dienstag im Mai statt.
Die Märkte fanden und finden hauptsächlich in der 
 Wiler Altstadt und dort auf dem Hofplatz\, dem so genannten «Goldenen Bode
 n»\, sowie in der Markt- und Kirchgasse statt. 
Die Arkaden entlang der Mar
 ktgasse sind ein typisches Zeichen für einen Marktort. 
Arkaden- oder Laube
 nstädte sind oder waren Marktorte. 
Die Arkaden entwickelten sich allmählic
 h aus Marktständen\, in denen die an Marktgassen wohnenden Bürgerinnen und
  Bürger ihre Verkaufsstände durch den Vorbau der oberen Stockwerke überdac
 hten.\nDas Marktgebiet des Wiler Maimarktes erstreckt sich jeweils von der
  Altstadt über den Adlerplatz und die Grabenstrasse bis zum Viehmarktplatz
 . 
Die Budenstadt befindet sich auf dem Bleicheplatz\, wo bereits am Wochen
 ende vor dem eigentlichen Markttag Chilbibetrieb herrscht.\nTausende von M
 arktbesuchenden aus Stadt und Region bevölkern am Maimarkt jeweils die Alt
 stadt\, die obere und untere Vorstadt sowie die angrenzenden Zentrumsgebie
 te von Wil und sorgen für eine ganz besondere Stimmung.
 Auf dem Viehmarktp
 latz findet zudem immer noch der Rindermarkt statt und ergänzt wird der Vi
 ehmarkt zudem mit verschiedenen landwirtschaftlichen Produkten.\nDer Maima
 rkt findet am Dienstag\, 5. Mai 2020\, statt. 
Die Budenstadt und Chilbi au
 f dem Bleicheplatz ist bereits am Wochenende vom 2. und 3. Mai 2020 geöffn
 et.\n \nHier Ihren Markt in Wil gratis in den Veranstaltungskalender eintr
 agen
DTSTART:20200505T080000
DTEND:20200505T190000
LOCATION:Altstadt Wil Marktgasse 9500 Wil Schweiz
SUMMARY:Maimarkt Wil 
URL:https://www.culare.ch/de/calendar_events/calendar_events_view,Maimarkt-
 Wil,91.htm
END:VEVENT
END:VCALENDAR
